BEGIN:VCALENDAR
VERSION:2.0
PRODID:-//ZborNIK - ECPv6.15.15//NONSGML v1.0//EN
CALSCALE:GREGORIAN
METHOD:PUBLISH
X-ORIGINAL-URL:https://infozbornik.rs
X-WR-CALDESC:Events for ZborNIK
REFRESH-INTERVAL;VALUE=DURATION:PT1H
X-Robots-Tag:noindex
X-PUBLISHED-TTL:PT1H
BEGIN:VTIMEZONE
TZID:Europe/Belgrade
BEGIN:DAYLIGHT
TZOFFSETFROM:+0100
TZOFFSETTO:+0200
TZNAME:CEST
DTSTART:20240331T010000
END:DAYLIGHT
BEGIN:STANDARD
TZOFFSETFROM:+0200
TZOFFSETTO:+0100
TZNAME:CET
DTSTART:20241027T010000
END:STANDARD
BEGIN:DAYLIGHT
TZOFFSETFROM:+0100
TZOFFSETTO:+0200
TZNAME:CEST
DTSTART:20250330T010000
END:DAYLIGHT
BEGIN:STANDARD
TZOFFSETFROM:+0200
TZOFFSETTO:+0100
TZNAME:CET
DTSTART:20251026T010000
END:STANDARD
BEGIN:DAYLIGHT
TZOFFSETFROM:+0100
TZOFFSETTO:+0200
TZNAME:CEST
DTSTART:20260329T010000
END:DAYLIGHT
BEGIN:STANDARD
TZOFFSETFROM:+0200
TZOFFSETTO:+0100
TZNAME:CET
DTSTART:20261025T010000
END:STANDARD
END:VTIMEZONE
BEGIN:VEVENT
DTSTART;TZID=Europe/Belgrade:20251206T140000
DTEND;TZID=Europe/Belgrade:20251206T140000
DTSTAMP:20260421T115424
CREATED:20251204T214732Z
LAST-MODIFIED:20251204T214732Z
UID:2775-1765029600-1765029600@infozbornik.rs
SUMMARY:Zbor Kanarevog brda i Miljakovca | Beograd
DESCRIPTION:Japanski park\, subota 06.12. u 14č
URL:https://infozbornik.rs/najava/zbor-kanarevog-brda-i-miljakovca-beograd/
LOCATION:Japanski park\, Beograd\, Japanski park\, Slavoljuba Vuksanovića\, Beograd\, 11090\, Serbia
CATEGORIES:Zbor
ATTACH;FMTTYPE=image/jpeg:https://infozbornik.rs/wp-content/uploads/2025/12/589610194_17870003139474287_3450173950881011768_n.jpg
END:VEVENT
BEGIN:VEVENT
DTSTART;TZID=Europe/Belgrade:20251206T120000
DTEND;TZID=Europe/Belgrade:20251206T120000
DTSTAMP:20260421T115424
CREATED:20251204T220529Z
LAST-MODIFIED:20251204T221311Z
UID:2779-1765022400-1765022400@infozbornik.rs
SUMMARY:Svega ovoga ne bi bilo da je Pera otišao pravo u policiju | Beograd
DESCRIPTION:Ušli smo u 5. mesec od kada su ulazi članova našeg zbora vandalizovani\, a počinioci nisu pronađeni. \nŽelimo da podsetimo policiju na ove slučajeve zastrašivanja aktivista. \nPočinioci se znaju\, dokazi su predati – gde su rezultati istrage i gde su presude?
URL:https://infozbornik.rs/najava/svega-ovoga-ne-bi-bilo-da-je-pera-otisao-pravo-u-policiju-beograd/
LOCATION:Raskrsnica Bulevara i Batutove\, Beograd\, Batutova 1\, Beograd\, Serbia
CATEGORIES:Protest
ATTACH;FMTTYPE=image/jpeg:https://infozbornik.rs/wp-content/uploads/2025/11/588877608_17872926951463103_4393177528363035805_n.jpg
END:VEVENT
BEGIN:VEVENT
DTSTART;TZID=Europe/Belgrade:20251206T103000
DTEND;TZID=Europe/Belgrade:20251206T200000
DTSTAMP:20260421T115424
CREATED:20251204T225808Z
LAST-MODIFIED:20251204T225808Z
UID:2806-1765017000-1765051200@infozbornik.rs
SUMMARY:Godinu dana blokade Fakulteta bezbednosti | Beograd
DESCRIPTION:06.12. pridružite nam se u obeležavanju godinu dana od blokade našeg fakulteta i početka zajedničke borbe koja nas je zbližila i ojačala.☺️❤️
URL:https://infozbornik.rs/najava/godinu-dana-blokade-fakulteta-bezbednosti-beograd/
LOCATION:Fakultet bezbednosti\, Beograd\, Gospodara Vučića 50\, Beograd\, Serbia
CATEGORIES:Akcija
ATTACH;FMTTYPE=image/jpeg:https://infozbornik.rs/wp-content/uploads/2025/12/587269134_17892621924375110_790556012332413070_n.jpg
END:VEVENT
BEGIN:VEVENT
DTSTART;VALUE=DATE:20251130
DTEND;VALUE=DATE:20251201
DTSTAMP:20260421T115424
CREATED:20251128T171826Z
LAST-MODIFIED:20251128T232817Z
UID:2575-1764460800-1764547199@infozbornik.rs
SUMMARY:Lokalni izbori | Sečanj
DESCRIPTION:U Sečnju je Opštinska izborna komisija proglasila 5 izbornih listi: \n\nAleksandar Vučić – Najbolje za Sečanj\n\nSrpska napredna stranka\n\n\nIvica Dačić – Za opštinu svih nas\n\nSocijalistička partija Srbije\n\n\nVukašin Baćina – Za bolju opštinu Sečanj\n\nGrupa građana ¨Za bolju opštinu Sečanj¨\n\n\nGlas mladih koja menja Sečanj\n\nGrupa građana ¨Glas mladih koja menja Sečanj¨\n\n\nDr Vojislav Šešelj\n\n Srpska radikalna stranka
URL:https://infozbornik.rs/najava/lokalni-izbori-secanj/
LOCATION:Sečanj\, Sečanj\, Serbia
CATEGORIES:Lokalni izbori
ATTACH;FMTTYPE=image/jpeg:https://infozbornik.rs/wp-content/uploads/2025/11/IMG-20251129-WA0002.jpg
END:VEVENT
BEGIN:VEVENT
DTSTART;VALUE=DATE:20251130
DTEND;VALUE=DATE:20251201
DTSTAMP:20260421T115424
CREATED:20251128T171744Z
LAST-MODIFIED:20251128T233000Z
UID:2579-1764460800-1764547199@infozbornik.rs
SUMMARY:Lokalni izbori | Negotin
DESCRIPTION:U Negotinu je Opštinska izborna komisija proglasila 4 izborne liste: \n\nAleksandar Vučić – Najbolje za Negotin\n\nSrpska napredna stranka\n\n\nUjedinjeni za Negotin\nEvropa i mladi – Za naš Negotin\nSrpski liberali – Za zeleni Negotin
URL:https://infozbornik.rs/najava/lokalni-izbori-negotin/
LOCATION:Negotin\, Negotin\, Serbia
CATEGORIES:Lokalni izbori
ATTACH;FMTTYPE=image/jpeg:https://infozbornik.rs/wp-content/uploads/2025/11/IMG-20251129-WA0000.jpg
END:VEVENT
BEGIN:VEVENT
DTSTART;VALUE=DATE:20251130
DTEND;VALUE=DATE:20251201
DTSTAMP:20260421T115424
CREATED:20251128T171659Z
LAST-MODIFIED:20251128T233048Z
UID:2583-1764460800-1764547199@infozbornik.rs
SUMMARY:Lokalni izbori | Mionica
DESCRIPTION:U Mionici je Opštinska izborna komisija proglasila 6 izbornih listi: \n\nAleksandar Vučić – Najbolje za Mionicu\n\nSrpska napredna stranka (SNS)\nSocijalistička partija Srbije (SPS)\nPartija ujedinjenih penzionera\, poljoprivrednika i proletera Srbije (PUPS)\nSrpska radikalna stranka (SRS)\n\n\nMarko Zeman\n\nSocijaldemokratska partija Srbije\n\n\nBUNT – Prava Srbija\nUjedinjeni za Mionicu\nMilan Gavrilović – Obraz i znanje protiv korupcije i kriminala\nMirko Jović – Za spas i obnovu mioničkih sela
URL:https://infozbornik.rs/najava/lokalni-izbori-mionica/
LOCATION:Mionica\, Mionica\, Serbia
CATEGORIES:Lokalni izbori
ATTACH;FMTTYPE=image/jpeg:https://infozbornik.rs/wp-content/uploads/2025/11/IMG-20251129-WA0001.jpg
END:VEVENT
BEGIN:VEVENT
DTSTART;TZID=Europe/Belgrade:20251124T190000
DTEND;TZID=Europe/Belgrade:20251124T190000
DTSTAMP:20260421T115424
CREATED:20251124T001317Z
LAST-MODIFIED:20251124T001317Z
UID:2694-1764010800-1764010800@infozbornik.rs
SUMMARY:Skup podrške ekipi N1\, ali i svim napadnutim novinarima
DESCRIPTION:Pozivamo celu novinarsku zajednicu da se u ponedeljak 24. novembra\, u 19:00h okupimo ispred Narodne skupštine Srbije (ugao Vlajkovićeve i Trga Nikole Pašića) i izrazimo profesionalnu solidarnost sa ekipom N1 napadnutom upravo na tom mestu\, kao i sa svim novinarkama i novinarima koji su u proteklom periodu bili meta napada dok su izveštavali u javnom interesu. \nDođite sa kamerama i telefonima – simbolično i stvarno – da uradimo svoj posao na licu mesta: dokumentujemo\, postavimo pitanja\, zabeležimo činjenice. Dostojanstveno i jasno poručimo: dosta je zastrašivanja\, nekažnjivosti i ignorisanja zakonskih obaveza institucija. \nPodsećamo da\, prema podacima NUNS-a\, od početka godine beležimo više stotina napada\, pretnji i pritisaka na novinare. \nPoziv važi i za građanke i građane – dođite da podržite kolege koje svakodnevno rade pod pritiskom\, pretnjama i uvredama. Naša solidarnost je danas važnija nego ikada. \n@ndnvmediahub @anemedija @unsrbija @itblokada @blokada.info
URL:https://infozbornik.rs/najava/skup-podrske-ekipi-n1-ali-i-svim-napadnutim-novinarima/
LOCATION:Trg Nikole Pašića\, Beograd\, Trg Nikole Pašića\, Beograd\, Serbia
CATEGORIES:Protest
ATTACH;FMTTYPE=image/jpeg:https://infozbornik.rs/wp-content/uploads/2025/11/587719717_18070678436594080_1802173471284139126_n.jpg
END:VEVENT
BEGIN:VEVENT
DTSTART;TZID=Europe/Belgrade:20251123T153000
DTEND;TZID=Europe/Belgrade:20251123T162000
DTSTAMP:20260421T115424
CREATED:20251118T232928Z
LAST-MODIFIED:20251118T233136Z
UID:2546-1763911800-1763914800@infozbornik.rs
SUMMARY:BloKADA\, ako ne SADA? | Beograd
DESCRIPTION:Konferencija Studentski protesti 2024/2025\nVidimo se na Filozofskom fakultetu❤️
URL:https://infozbornik.rs/najava/blokada-ako-ne-sada-beograd-2/
LOCATION:Filozofski fakultet\, Beograd\, Čika Ljubina 18-20\, Beograd\, Serbia
CATEGORIES:Akcija
ATTACH;FMTTYPE=image/jpeg:https://infozbornik.rs/wp-content/uploads/2025/11/582106466_18062456483631683_8319616333466783610_n.jpg
END:VEVENT
BEGIN:VEVENT
DTSTART;TZID=Europe/Belgrade:20251122T170000
DTEND;TZID=Europe/Belgrade:20251122T170000
DTSTAMP:20260421T115424
CREATED:20251121T003428Z
LAST-MODIFIED:20251121T003428Z
UID:2588-1763830800-1763830800@infozbornik.rs
SUMMARY:Zbor Rakovice | Beograd
DESCRIPTION:
URL:https://infozbornik.rs/najava/zbor-rakovice-beograd/
LOCATION:Premier\, Beograd\, Starca Milije 1a\, Beograd\, Serbia
CATEGORIES:Zbor
ATTACH;FMTTYPE=image/jpeg:https://infozbornik.rs/wp-content/uploads/2025/11/583789325_634721429634139_6767950038552378389_n-e1763685163687.jpg
END:VEVENT
BEGIN:VEVENT
DTSTART;TZID=Europe/Belgrade:20251122T162500
DTEND;TZID=Europe/Belgrade:20251122T174000
DTSTAMP:20260421T115424
CREATED:20251118T232731Z
LAST-MODIFIED:20251118T233200Z
UID:2541-1763828700-1763833200@infozbornik.rs
SUMMARY:BloKADA\, ako ne SADA? | Beograd
DESCRIPTION:Konferencija Studentski protesti 2024/2025\nVidimo se na Filozofskom fakultetu❤️
URL:https://infozbornik.rs/najava/blokada-ako-ne-sada-beograd/
LOCATION:Filozofski fakultet\, Beograd\, Čika Ljubina 18-20\, Beograd\, Serbia
CATEGORIES:Akcija
ATTACH;FMTTYPE=image/jpeg:https://infozbornik.rs/wp-content/uploads/2025/11/582106466_18062456483631683_8319616333466783610_n.jpg
END:VEVENT
BEGIN:VEVENT
DTSTART;TZID=Europe/Belgrade:20251122T113000
DTEND;TZID=Europe/Belgrade:20251122T113000
DTSTAMP:20260421T115424
CREATED:20251118T225222Z
LAST-MODIFIED:20251118T225222Z
UID:2516-1763811000-1763811000@infozbornik.rs
SUMMARY:Godinu dana\, isti zahtev | Beograd
DESCRIPTION:Ne zaboravljamo!\nVidimo se 22. novembra.
URL:https://infozbornik.rs/najava/godinu-dana-isti-zahtev-beograd/
LOCATION:Fakultet dramskih umetnosti\, Beograd\, Bulevar umetnosti 20\, Novi Beograd\, 11070\, Serbia
CATEGORIES:Protest
ATTACH;FMTTYPE=image/webp:https://infozbornik.rs/wp-content/uploads/2025/11/581437290_17898582768343948_1962930372093996325_n.webp
END:VEVENT
BEGIN:VEVENT
DTSTART;TZID=Europe/Belgrade:20251121T130000
DTEND;TZID=Europe/Belgrade:20251121T130000
DTSTAMP:20260421T115424
CREATED:20251121T005849Z
LAST-MODIFIED:20251121T005849Z
UID:2594-1763730000-1763730000@infozbornik.rs
SUMMARY:"Briga o sebi kao čin otpora" | Beograd
DESCRIPTION:Pozivamo vas na radionicu o prevenciji burnout-a tokom protestovanja. Radionicu drži doc. dr Iva Branković. Radionica će se održati sutra na FON-u\, u 13 časova. Tačna lokacija će uskoro biti objavljena. ❤️\nMolimo vas da nam se javite ukoliko ste zainteresovani da dođete\, kako bismo znali okvirno brojno stanje.\nVidimo se! 🫶🏻
URL:https://infozbornik.rs/najava/briga-o-sebi-kao-cin-otpora-beograd/
LOCATION:Fakultet organizacionih nauka\, Beograd\, Jove Ilića 154\, Beograd\, Serbia
CATEGORIES:Akcija
ATTACH;FMTTYPE=image/jpeg:https://infozbornik.rs/wp-content/uploads/2025/11/583331258_17893334235376622_6466160345448976478_n.jpg
END:VEVENT
BEGIN:VEVENT
DTSTART;TZID=Europe/Belgrade:20251120T130000
DTEND;TZID=Europe/Belgrade:20251120T130000
DTSTAMP:20260421T115424
CREATED:20251118T221337Z
LAST-MODIFIED:20251118T221337Z
UID:2490-1763643600-1763643600@infozbornik.rs
SUMMARY:Kojim tokom ide TOK? | Beograd
DESCRIPTION:Četvrtak 20.11.\n13:00\nKojim tokom ide TOK?
URL:https://infozbornik.rs/najava/kojim-tokom-ide-tok-beograd/
LOCATION:Javno tužilaštvo za organizovani kriminal\, Beograd\, Ustanička 29\, Beograd\, Serbia
CATEGORIES:Protest
ATTACH;FMTTYPE=image/webp:https://infozbornik.rs/wp-content/uploads/2025/11/581969510_17894231298360525_3239584773959046518_n.webp
END:VEVENT
BEGIN:VEVENT
DTSTART;TZID=Europe/Belgrade:20251119T200000
DTEND;TZID=Europe/Belgrade:20251119T200000
DTSTAMP:20260421T115424
CREATED:20251118T215019Z
LAST-MODIFIED:20251118T215019Z
UID:2474-1763582400-1763582400@infozbornik.rs
SUMMARY:"Početak kraja" - Premijera kratkog dokumentarnog filma | Beograd
DESCRIPTION:Premijera kratkog dokumentarnog filma biće održana 19.11. u Petoj beogradskoj gimnaziji. Film govori o putu naših biciklista do Novog Sada\, kao i o dešavanjima nakon 1.11 \nVidimo se u što većem broju! \n#novisad #setnja #blokade #beograd #peta
URL:https://infozbornik.rs/najava/pocetak-kraja-premijera-kratkog-dokumentarnog-filma-beograd/
LOCATION:Peta beogradska gimnazija\, Beograd\, Ilije Garašanina 24\, Beograd\, Serbia
CATEGORIES:Akcija
ATTACH;FMTTYPE=image/jpeg:https://infozbornik.rs/wp-content/uploads/2025/11/582961518_17889162501386089_8613560180721643953_n.jpg
END:VEVENT
BEGIN:VEVENT
DTSTART;TZID=Europe/Belgrade:20251116T140000
DTEND;TZID=Europe/Belgrade:20251116T140000
DTSTAMP:20260421T115424
CREATED:20251115T110052Z
LAST-MODIFIED:20251115T110052Z
UID:2403-1763301600-1763301600@infozbornik.rs
SUMMARY:Zbor Skojevskog naselja | Beograd
DESCRIPTION:Dođite da zajedno razgovaramo o stvarima koje nas se tiču i da čujemo jedni druge.\nVaše mišljenje je važno!
URL:https://infozbornik.rs/najava/zbor-skojevskog-naselja-beograd/
LOCATION:Klupe iza Dragulja\, Skojevsko naselje\, Beograd\, Kneza Višeslava 29g\, Beograd\, Serbia
CATEGORIES:Zbor
ATTACH;FMTTYPE=image/webp:https://infozbornik.rs/wp-content/uploads/2025/11/581961192_17870514780465335_53850502503083918_n.webp
END:VEVENT
BEGIN:VEVENT
DTSTART;TZID=Europe/Belgrade:20251116T101500
DTEND;TZID=Europe/Belgrade:20251116T101500
DTSTAMP:20260421T115424
CREATED:20251115T112611Z
LAST-MODIFIED:20251115T112611Z
UID:2408-1763288100-1763288100@infozbornik.rs
SUMMARY:Trčim i hodam za studente | Beograd
DESCRIPTION:U nedelju 16.11. trčimo/hodamo do Rektorata\, gde ćemo održati ćutanje u trajanju od 19 minuta – za žrtve pada nadstrešnice i za trojicu mladića i studenata preminulih pod tragičnim ili nerazjašnjenim okolnostima u poslednjih nekoliko nedelja – Strahinju Pantića\, Stefana Đurđevića i Đorđa Jankovića. \nNakon tišine\, posetićemo zajedno Studentski sajam knjiga i kulture koji će tokom vikenda biti održan na Studentskom trgu. \nRuta: FDU-Bul. umetnosti-Bul. Mihajla Pupina- Brankov most-Pop Lukina-Palas-Knez Mihajlova- Rektorat \nDužina rute: 5km\n \n\nStart: \n\nTrkači – 10.40č\nHodači – 10.15č\n\nI još jednom da se podsetimo: borba traje dogod studenti ne kažu da je kraj! \nPridružite nam se u nedelju!
URL:https://infozbornik.rs/najava/trcim-i-hodam-za-studente-beograd/
LOCATION:Fakultet dramskih umetnosti\, Beograd\, Bulevar umetnosti 20\, Novi Beograd\, 11070\, Serbia
CATEGORIES:Protest
ATTACH;FMTTYPE=image/jpeg:https://infozbornik.rs/wp-content/uploads/2025/11/580980548_17884438194402445_8054754662707191257_n.jpg
END:VEVENT
BEGIN:VEVENT
DTSTART;TZID=Europe/Belgrade:20251116T100000
DTEND;TZID=Europe/Belgrade:20251116T200000
DTSTAMP:20260421T115424
CREATED:20251110T000513Z
LAST-MODIFIED:20251110T000513Z
UID:2245-1763287200-1763323200@infozbornik.rs
SUMMARY:Sajam knjiga i kulture "Slobodna strana" | Beograd
DESCRIPTION:Studenti vas pozivaju na veliki dobrotvorni STUDENTSKI SAJAM KNJIGA! \nDođite na FILOLOŠKI FAKULTET u subotu i nedelju (15. i 16. novembra) od 10 do 20 časova na štandove izdavača\, dok od 10 časova do ponoći možete pratiti kulturno-umetnički program na STUDENTSKOM TRGU. \nOčekuje vas sjajan izbor knjiga\, tribine\, razgovori\, koncerti\, predstave… \nBudite u društvu sa odvažnim čitaocima\, budite na pravom mestu\, sa pravim ljudima i dobrim knjigama. \nNa Studentskom sajmu će biti izložen veliki izbor naslova sa preko 30 izdavača. Vidimo se uskoro!
URL:https://infozbornik.rs/najava/sajam-knjiga-i-kulture-slobodna-strana-beograd/
LOCATION:Filološki fakultet\, Beograd\, Studentski trg 3\, Beograd\, Serbia
CATEGORIES:Bazar
ATTACH;FMTTYPE=image/jpeg:https://infozbornik.rs/wp-content/uploads/2025/10/575112427_17897533089343948_4811035992655995125_n.jpg
END:VEVENT
BEGIN:VEVENT
DTSTART;TZID=Europe/Belgrade:20251115T170000
DTEND;TZID=Europe/Belgrade:20251115T170000
DTSTAMP:20260421T115424
CREATED:20251115T113820Z
LAST-MODIFIED:20251115T113820Z
UID:2424-1763226000-1763226000@infozbornik.rs
SUMMARY:Filozofski fakultet nije za poneti! | Niš
DESCRIPTION:📢 Zborovi građana pozivaju da stanemo u zaštitu autonomije Filozofskog fakulteta! \nTražimo pravdu za Dijanu Hrku i Jaćimovića! \nOpstanak Filozofskog fakulteta je i naša odgovornost! \nŽivot Dijane Hrke i Jaćimovića je i naša odgovornost! \nVidimo se!
URL:https://infozbornik.rs/najava/filozofski-fakultet-nije-za-poneti-nis/
LOCATION:Osnovni sud\, Niš\, Vožda Karađorđa 23\, Niš\, Serbia
CATEGORIES:Protest
ATTACH;FMTTYPE=image/jpeg:https://infozbornik.rs/wp-content/uploads/2025/11/581801062_17872364151453497_543959779119393281_n.jpg
END:VEVENT
BEGIN:VEVENT
DTSTART;TZID=Europe/Belgrade:20251115T140000
DTEND;TZID=Europe/Belgrade:20251115T190000
DTSTAMP:20260421T115424
CREATED:20251107T203633Z
LAST-MODIFIED:20251107T203735Z
UID:2189-1763215200-1763233200@infozbornik.rs
SUMMARY:Za Jelenu | Beograd
DESCRIPTION:Subota\, 15.11. hol OŠ „Ljuba Nenadović“\, humanitarni bazar za Jelenu od 14 do 19 sati. 💚💙
URL:https://infozbornik.rs/najava/za-jelenu/
LOCATION:OŠ „Ljuba Nenadović“\, Beograd\, Ace Joksimovića 25\, Beograd\, Serbia
CATEGORIES:Bazar
ATTACH;FMTTYPE=image/jpeg:https://infozbornik.rs/wp-content/uploads/2025/11/575610420_17875480929434424_5795733595772260369_n.jpeg
END:VEVENT
BEGIN:VEVENT
DTSTART;TZID=Europe/Belgrade:20251115T100000
DTEND;TZID=Europe/Belgrade:20251115T200000
DTSTAMP:20260421T115424
CREATED:20251110T000344Z
LAST-MODIFIED:20251110T000416Z
UID:2239-1763200800-1763236800@infozbornik.rs
SUMMARY:Sajam knjiga i kulture "Slobodna strana" | Beograd
DESCRIPTION:Studenti vas pozivaju na veliki dobrotvorni STUDENTSKI SAJAM KNJIGA! \nDođite na FILOLOŠKI FAKULTET u subotu i nedelju (15. i 16. novembra) od 10 do 20 časova na štandove izdavača\, dok od 10 časova do ponoći možete pratiti kulturno-umetnički program na STUDENTSKOM TRGU. \nOčekuje vas sjajan izbor knjiga\, tribine\, razgovori\, koncerti\, predstave… \nBudite u društvu sa odvažnim čitaocima\, budite na pravom mestu\, sa pravim ljudima i dobrim knjigama. \nNa Studentskom sajmu će biti izložen veliki izbor naslova sa preko 30 izdavača. Vidimo se uskoro!
URL:https://infozbornik.rs/najava/sajam-knjiga-i-kulture-slobodna-strana/
LOCATION:Filološki fakultet\, Beograd\, Studentski trg 3\, Beograd\, Serbia
CATEGORIES:Bazar
ATTACH;FMTTYPE=image/jpeg:https://infozbornik.rs/wp-content/uploads/2025/10/575112427_17897533089343948_4811035992655995125_n.jpg
END:VEVENT
BEGIN:VEVENT
DTSTART;TZID=Europe/Belgrade:20251115T100000
DTEND;TZID=Europe/Belgrade:20251115T100000
DTSTAMP:20260421T115424
CREATED:20251109T234051Z
LAST-MODIFIED:20251109T234051Z
UID:2213-1763200800-1763200800@infozbornik.rs
SUMMARY:Igraj za Jelenu | Beograd
DESCRIPTION:Humanitarni turnir za Jelenu⚽️❤️ \n\n10h\, subota\, 15.11.2025.\nBetonac\, Vidikovac\nEkipe 5+izmena\nKotizacija po igraču 400din.\nprijave na 0659564367 ili ig: @aleksandra_djurov\n\nRok za prijavu učešća je do 12. 11. 2025. \nPozivamo vas da budete deo Humanitarnog fudbalskog turnira\, gde se svaki gol računa kao korak ka ozdravljenju! Pridružite nam se u borbi za zdravlje jedne hrabre devojčice kojoj je potrebna naša pomoć.
URL:https://infozbornik.rs/najava/igraj-za-jelenu-beograd/
LOCATION:Betonac\, Vidikovac\, Beograd\, Vidikovac\, Beograd\, Serbia
CATEGORIES:Akcija
ATTACH;FMTTYPE=image/webp:https://infozbornik.rs/wp-content/uploads/2025/10/579452737_17882953425407300_6238294118016506175_n.webp
END:VEVENT
BEGIN:VEVENT
DTSTART;TZID=Europe/Belgrade:20251111T160000
DTEND;TZID=Europe/Belgrade:20251111T160000
DTSTAMP:20260421T115424
CREATED:20251110T005457Z
LAST-MODIFIED:20251110T005457Z
UID:2279-1762876800-1762876800@infozbornik.rs
SUMMARY:Preci su nam uzor | Novi Sad
DESCRIPTION:Dan pobed u Prvom svetskom ratu\nSloboda nije data\, već zaslužena 💜
URL:https://infozbornik.rs/najava/preci-su-nam-uzor-novi-sad/
LOCATION:Kampus Univerziteta u Novom Sadu\, Dr Zorana Djindjića 1\, Novi Sad\, Serbia
CATEGORIES:Protest
ATTACH;FMTTYPE=image/jpeg:https://infozbornik.rs/wp-content/uploads/2025/11/573751124_17891865273361617_4156234693620309674_n.jpg
END:VEVENT
BEGIN:VEVENT
DTSTART;TZID=Europe/Belgrade:20251111T110000
DTEND;TZID=Europe/Belgrade:20251111T110000
DTSTAMP:20260421T115424
CREATED:20251110T002545Z
LAST-MODIFIED:20251110T002545Z
UID:2259-1762858800-1762858800@infozbornik.rs
SUMMARY:Generalštab - Mi smo živi zid | Beograd
DESCRIPTION:Vidimo se ispred Generalštaba!
URL:https://infozbornik.rs/najava/generalstab-mi-smo-zivi-zid-beograd/
LOCATION:Generalštab\, Kneza Miloša 35\, Beograd\, Serbia
CATEGORIES:Protest
ATTACH;FMTTYPE=image/jpeg:https://infozbornik.rs/wp-content/uploads/2025/10/579688253_17890619208376339_2037757567324191290_n.jpg
END:VEVENT
BEGIN:VEVENT
DTSTART;TZID=Europe/Belgrade:20251109T170000
DTEND;TZID=Europe/Belgrade:20251109T170000
DTSTAMP:20260421T115424
CREATED:20251107T192011Z
LAST-MODIFIED:20251107T192051Z
UID:2150-1762707600-1762707600@infozbornik.rs
SUMMARY:Zbor Vidikovca | Beograd
DESCRIPTION:Glavna tema: Nelegalna gradnja kod pijace
URL:https://infozbornik.rs/najava/zbor-vidikovca-beograd/
LOCATION:Maxi park\, Beograd\, Maxi park\, Playground\, Patrijarha Joanikija 28\, Beograd\, 11090\, Serbia
CATEGORIES:Zbor
ATTACH;FMTTYPE=image/png:https://infozbornik.rs/wp-content/uploads/2025/11/202511072025.png
END:VEVENT
BEGIN:VEVENT
DTSTART;TZID=Europe/Belgrade:20251109T101000
DTEND;TZID=Europe/Belgrade:20251109T101000
DTSTAMP:20260421T115424
CREATED:20251106T215854Z
LAST-MODIFIED:20251106T224437Z
UID:2128-1762683000-1762683000@infozbornik.rs
SUMMARY:Pod jednom zastavom - Hodamo od FDU do Trga Nikole Pašića | Beograd
DESCRIPTION:U nedelju hodamo u znak podrške našim članovima\, nordijskim hodačima\, koji su prošle nedelje bili žrtve razbojništva od strane režimskih huligana ispred Narodne skupštine. \nSvi zajedno ćemo otpešačiti do Trga Nikole Pašića\, gde ćemo održati 16 minuta tišine. \nDužina rute: oko 5 km \nOkupljanje: FDU u nedelju 9. novembra 10:10č
URL:https://infozbornik.rs/najava/hodamo-od-fdu-do-trga-nikole-pasica-beograd/
LOCATION:Fakultet dramskih umetnosti\, Beograd\, Bulevar umetnosti 20\, Novi Beograd\, 11070\, Serbia
CATEGORIES:Protest
ATTACH;FMTTYPE=image/jpeg:https://infozbornik.rs/wp-content/uploads/2025/11/573588430_1457400981989228_516656416960257698_n.jpg
END:VEVENT
BEGIN:VEVENT
DTSTART;TZID=Europe/Belgrade:20251108T153000
DTEND;TZID=Europe/Belgrade:20251108T153000
DTSTAMP:20260421T115424
CREATED:20251107T194542Z
LAST-MODIFIED:20251107T194542Z
UID:2167-1762615800-1762615800@infozbornik.rs
SUMMARY:Dok ne bude pravda! | Požarevac
DESCRIPTION:Vidimo se sutra\, ponesite kišobrane!
URL:https://infozbornik.rs/najava/dok-ne-bude-pravda-pozarevac/
LOCATION:Gradski park\, Požarevac\, 15. Oktobar 10\, Požarevac\, Serbia
CATEGORIES:Protest
ATTACH;FMTTYPE=image/jpeg:https://infozbornik.rs/wp-content/uploads/2025/11/573534759_17875247055435136_5896930347094404595_n.jpg
END:VEVENT
BEGIN:VEVENT
DTSTART;TZID=Europe/Belgrade:20251108T150000
DTEND;TZID=Europe/Belgrade:20251108T150000
DTSTAMP:20260421T115424
CREATED:20251107T191240Z
LAST-MODIFIED:20251107T191637Z
UID:2145-1762614000-1762614000@infozbornik.rs
SUMMARY:Zbor Kanarevog brda i Miljakovca | Beograd
DESCRIPTION:
URL:https://infozbornik.rs/najava/zbor-kanarevog-brda-i-miljakovca/
LOCATION:Japanski park\, Beograd\, Japanski park\, Slavoljuba Vuksanovića\, Beograd\, 11090\, Serbia
CATEGORIES:Zbor
ATTACH;FMTTYPE=image/png:https://infozbornik.rs/wp-content/uploads/2025/11/202511072007.png
END:VEVENT
BEGIN:VEVENT
DTSTART;TZID=Europe/Belgrade:20251108T120000
DTEND;TZID=Europe/Belgrade:20251108T120000
DTSTAMP:20260421T115424
CREATED:20251107T202201Z
LAST-MODIFIED:20251107T202201Z
UID:2177-1762603200-1762603200@infozbornik.rs
SUMMARY:Za našu Jelenu Mišić | Beograd
DESCRIPTION:💛 Poziv na humanitarni bazar – Snaga prijateljstva 💛\nUčenici OŠ “Ljuba Nenadović” sa puno ljubavi organizuju humanitarni bazar za pomoć drugarici Jeleni Mišić\, koja se hrabro bori sa glioblastomom.\nZa Jelenino lečenje potrebno je prikupiti 650.000 evra\, a svaki doprinos znači korak bliže njenom ozdravljenju.\n📅 Kada: sutra u 12h\n📍 Gde: prostorije OŠ “Ljuba Nenadović”\nNa bazaru vas očekuju ukusni mafini\, kafa\, čaj i limunada koje su pripremili naši učenici\, kao i kreativna radionica „Snaga prijateljstva“\, gde ćete moći da napravite i kupite narukvice prijateljstva.\nDođite da zajedno pokažemo da dobrota i zajedništvo leče!\n💫 Svaki osmeh\, svaka narukvica i svaki zalogaj znače podršku Jeleni.\n#HumanitarniBazar #SnagaPrijateljstva #ZaJelenu
URL:https://infozbornik.rs/najava/za-nasu-jelenu-misic-beograd/
LOCATION:OŠ „Ljuba Nenadović“\, Beograd\, Ace Joksimovića 25\, Beograd\, Serbia
CATEGORIES:Bazar
ATTACH;FMTTYPE=image/webp:https://infozbornik.rs/wp-content/uploads/2025/11/573671336_17882829927407300_8574825063614040952_n.webp
END:VEVENT
BEGIN:VEVENT
DTSTART;TZID=Europe/Belgrade:20251102T100000
DTEND;TZID=Europe/Belgrade:20251102T100000
DTSTAMP:20260421T115424
CREATED:20251101T200044Z
LAST-MODIFIED:20251106T224329Z
UID:1990-1762077600-1762077600@infozbornik.rs
SUMMARY:Trčim i hodam za studente | Beograd
DESCRIPTION:U nedelju hodamo i trčimo do Pete gimnazije! Pridružite nam se \n\nHodači: okupljanje u 10.00 č\, start u 10.15 č\nTrkači: okupljanje u 10.30 č\, start u 10.40 č
URL:https://infozbornik.rs/najava/trcim-i-hodam-za-studente/
LOCATION:Fakultet dramskih umetnosti\, Beograd\, Bulevar umetnosti 20\, Novi Beograd\, 11070\, Serbia
CATEGORIES:Protest
ATTACH;FMTTYPE=image/webp:https://infozbornik.rs/wp-content/uploads/2025/11/573396454_17883039777402445_14158149728556849_n.webp
END:VEVENT
BEGIN:VEVENT
DTSTART;VALUE=DATE:20251102
DTEND;VALUE=DATE:20251124
DTSTAMP:20260421T115424
CREATED:20251106T223843Z
LAST-MODIFIED:20251124T160401Z
UID:2135-1762041600-1763942399@infozbornik.rs
SUMMARY:Dijana ne sme ostati sama | Beograd
DESCRIPTION:Zborovi uz Dijanu Hrku.\nNjena borba je i naša borba!
URL:https://infozbornik.rs/najava/dijana-ne-sme-ostati-sama/
LOCATION:Ugao Takovske i Bulevara kralja Aleksandra\, Beograd\, Takovska 2\, Beograd\, Serbia
CATEGORIES:Protest
ATTACH;FMTTYPE=image/jpeg:https://infozbornik.rs/wp-content/uploads/2025/11/572877325_17863278141507080_4344785782730310534_n.jpg
END:VEVENT
END:VCALENDAR